BEGIN:VCALENDAR
VERSION:2.0
METHOD:PUBLISH
X-WR-CALNAME;VALUE=TEXT:
PRODID:-//Drupal iCal API//EN
BEGIN:VEVENT
2019-12-03 07:00:00 AEDT
2019-12-03 08:00:00 AEDT
DTSTART:20191202T200000Z
DTEND:20191202T210000Z
SUMMARY:In conversation with Peter Hartcher
UID:f2306298-86cb-47b2-9588-afe1ec0d4828
URL:https://ausi.anu.edu.au/events/conversation-peter-hartcher
END:VEVENT
END:VCALENDAR
