BEGIN:VCALENDAR
VERSION:2.0
METHOD:PUBLISH
X-WR-CALNAME;VALUE=TEXT:
PRODID:-//Drupal iCal API//EN
BEGIN:VEVENT
2020-08-26 07:00:00 AEST
2020-08-26 07:00:00 AEST
DTSTART:20200825T210000Z
DTEND:20200825T210000Z
SUMMARY:Effective Communication saves lives
UID:d0b98918-a23d-4019-9f0f-788e7087ab56
URL:https://ausi.anu.edu.au/events/effective-communication-saves-lives
END:VEVENT
END:VCALENDAR
