BEGIN:VCALENDAR
VERSION:2.0
METHOD:PUBLISH
X-WR-CALNAME;VALUE=TEXT:
PRODID:-//Drupal iCal API//EN
BEGIN:VEVENT
2020-11-05 06:00:00 AEDT
2020-11-05 06:00:00 AEDT
DTSTART:20201104T190000Z
DTEND:20201104T190000Z
SUMMARY:Book Launch: History in a Post-Truth World
UID:93600332-0b99-423e-a65f-d537f8668059
URL:https://ausi.anu.edu.au/events/book-launch-history-post-truth-world
END:VEVENT
END:VCALENDAR
