BEGIN:VCALENDAR
VERSION:2.0
METHOD:PUBLISH
X-WR-CALNAME;VALUE=TEXT:
PRODID:-//Drupal iCal API//EN
BEGIN:VEVENT
2021-05-23 05:00:00 AEST
2021-05-23 08:00:00 AEST
DTSTART:20210522T190000Z
DTEND:20210522T220000Z
SUMMARY:Post-Soviet Russia: Perceptions and Prejudices
UID:861bb46d-0f14-4fe4-86eb-88d6d6e3c492
URL:https://ausi.anu.edu.au/events/post-soviet-russia-perceptions-and-prejudices
END:VEVENT
END:VCALENDAR
