BEGIN:VCALENDAR
VERSION:2.0
METHOD:PUBLISH
X-WR-CALNAME;VALUE=TEXT:
PRODID:-//Drupal iCal API//EN
BEGIN:VEVENT
2021-06-01 08:00:00 AEST
2021-06-01 09:00:00 AEST
DTSTART:20210531T220000Z
DTEND:20210531T230000Z
SUMMARY:National Reconciliation Week panel discussion
UID:3314d98f-7673-449d-b47d-108c0cc5f55c
URL:https://ausi.anu.edu.au/events/national-reconciliation-week-panel-discussion
END:VEVENT
END:VCALENDAR
