BEGIN:VCALENDAR
VERSION:2.0
METHOD:PUBLISH
X-WR-CALNAME;VALUE=TEXT:
PRODID:-//Drupal iCal API//EN
BEGIN:VEVENT
2021-05-27 01:30:00 AEST
2021-05-27 02:30:00 AEST
DTSTART:20210526T153000Z
DTEND:20210526T163000Z
SUMMARY:ANU Reconciliation Action Plan Launch
UID:26cc4c78-de60-4b1c-8f4f-15b56517b443
URL:https://ausi.anu.edu.au/events/anu-reconciliation-action-plan-launch
END:VEVENT
END:VCALENDAR
