BEGIN:VCALENDAR
VERSION:2.0
METHOD:PUBLISH
X-WR-CALNAME;VALUE=TEXT:
PRODID:-//Drupal iCal API//EN
BEGIN:VEVENT
2022-02-21 07:00:00 AEDT
2022-02-21 07:00:00 AEDT
DTSTART:20220220T200000Z
DTEND:20220220T200000Z
SUMMARY:February 2022 - Visiting Fellows Dinner
UID:73dd085e-f71b-498f-aa06-140a8a8af28b
URL:https://ausi.anu.edu.au/events/february-2022-visiting-fellows-dinner
END:VEVENT
END:VCALENDAR
